﻿

BEGIN:VCALENDAR
VERSION:2.0
PRODID:-//Castora//Streamplan//DE
CALSCALE:GREGORIAN
METHOD:PUBLISH
X-WR-CALNAME:Streamplan: Streamplan Woche 14
BEGIN:VEVENT
UID:066fd861ed9c6ffec074d0d53506ca93@castora.app
DTSTAMP:20260421T194434Z
DTSTART:20260324T190000
DTEND:20260324T220000
SUMMARY:Marco: Phasmophobia
DESCRIPTION:<p>Die Woche startet mit Marco der nun genau hören kann ob die Oma von vorne oder hinten kommt ... oh wait!</p>
LOCATION:https://twitch.tv/marco
END:VEVENT
BEGIN:VEVENT
UID:ee0e45e85aa1cad7606c1f7f2767bbfd@castora.app
DTSTAMP:20260421T194434Z
DTSTART:20260325T190000
DTEND:20260325T220000
SUMMARY:Sven: Phasmophobia
DESCRIPTION:<p>Phasmophobia mit der Community - gemütliche Runden\, natürlich inklusive Heldenhafter Rettungen!</p>
LOCATION:https://twitch.tv/sven
END:VEVENT
BEGIN:VEVENT
UID:2e8543432e6c7e651e97d335c2e10e44@castora.app
DTSTAMP:20260421T194434Z
DTSTART:20260326T190000
DTEND:20260326T210000
SUMMARY:Marco: Phasmophobia
DESCRIPTION:<p>Wir starten in den Dönerstag mit Phasmophobia!</p>
LOCATION:https://twitch.tv/marco
END:VEVENT
BEGIN:VEVENT
UID:b879e13635a48666b2072bf1f77d24ae@castora.app
DTSTAMP:20260421T194434Z
DTSTART:20260326T210000
DTEND:20260326T220000
SUMMARY:Marco: File Destined
DESCRIPTION:<p>Heute gibt es einen schicken Unreal Engine Klassiker</p>
LOCATION:https://twitch.tv/marco
END:VEVENT
BEGIN:VEVENT
UID:edf00a03c61cbc31f3a5ce2ca936556b@castora.app
DTSTAMP:20260421T194434Z
DTSTART:20260327T190000
DTEND:20260327T230000
SUMMARY:Sven: Phasmophobia
DESCRIPTION:<p>Hoch die Hände\, ab ins Wochenende! Atemraubende Geisterjägerrunden mit der Community!</p>
LOCATION:https://twitch.tv/sven
END:VEVENT
BEGIN:VEVENT
UID:77964748ccc9122dbaa4c92c7b7be7a8@castora.app
DTSTAMP:20260421T194434Z
DTSTART:20260328T190000
DTEND:20260328T210000
SUMMARY:Marco: Phasmophobia
DESCRIPTION:<p>Phasmophobia\, Challenges\, Crowd-Control (diesmal wirklich!) und ... Geisterreich!</p>
LOCATION:https://twitch.tv/marco
END:VEVENT
END:VCALENDAR
