﻿

BEGIN:VCALENDAR
VERSION:2.0
PRODID:-//Castora//Streamplan//DE
CALSCALE:GREGORIAN
METHOD:PUBLISH
X-WR-CALNAME:Streamplan: Streamplan Woche 15
BEGIN:VEVENT
UID:a76d95d922ddfee0f0c463bdbd0330e3@castora.app
DTSTAMP:20260421T180730Z
DTSTART:20260330T190000
DTEND:20260330T220000
SUMMARY:Sven: Ghost Janitors
DESCRIPTION:<p>Der Frühling steht vor der Tür und es wird Zeit für den Frühjahrsputz. Sven bewaffnet sich mit Wischmopp\, Besen und Tuch und gibt den Geisterbehausungen neuen Glanz.</p>
LOCATION:https://twitch.tv/sven
END:VEVENT
BEGIN:VEVENT
UID:34fe5893427c57ffcdd6d8b36d2ee495@castora.app
DTSTAMP:20260421T180730Z
DTSTART:20260331T190000
DTEND:20260331T220000
SUMMARY:Sven: Phasmophobia
DESCRIPTION:<p>Wir starten mit der fröhlichen Ostereisuche in den April!</p>
LOCATION:https://twitch.tv/sven
END:VEVENT
BEGIN:VEVENT
UID:90ab94ef805f85483d3e7920c3eb6f22@castora.app
DTSTAMP:20260421T180730Z
DTSTART:20260401T190000
DTEND:20260401T220000
SUMMARY:Marco: Phasmophobia
DESCRIPTION:<p>Weiter geht's mit Geistern und dem Osterevent.</p>
LOCATION:https://twitch.tv/marco
END:VEVENT
BEGIN:VEVENT
UID:fb2dbf2967d3363f730ff7a772b34409@castora.app
DTSTAMP:20260421T180730Z
DTSTART:20260402T190000
DTEND:20260402T220000
SUMMARY:Marco: Phasmophobia
DESCRIPTION:<p>Marco sucht noch immer Eier\, Hasen und zwischendurch auch Geister.</p>
LOCATION:https://twitch.tv/marco
END:VEVENT
BEGIN:VEVENT
UID:043166e0880c62337880d97c3136488a@castora.app
DTSTAMP:20260421T180730Z
DTSTART:20260403T190000
DTEND:20260403T220000
SUMMARY:Sven: Phasmophobia
DESCRIPTION:<p>Ostern steht vor der Tür und Sven ist voll dabei! Geister\, Osterevent und Crowd Control.</p>
LOCATION:https://twitch.tv/sven
END:VEVENT
BEGIN:VEVENT
UID:d6f60eb79a57661290dc42580e07df99@castora.app
DTSTAMP:20260421T180730Z
DTSTART:20260404T190000
DTEND:20260404T235900
SUMMARY:Marco: Phasmophobia
DESCRIPTION:<p>XXL - Phasmophobia Abend!! </p>
LOCATION:https://twitch.tv/marco
END:VEVENT
END:VCALENDAR
