﻿

BEGIN:VCALENDAR
VERSION:2.0
PRODID:-//Castora//Streamplan//DE
CALSCALE:GREGORIAN
METHOD:PUBLISH
X-WR-CALNAME:Streamplan: Streamplan Woche 16
BEGIN:VEVENT
UID:0d4314b148a28ab33d59bab8bd2ac3b2@castora.app
DTSTAMP:20260421T222602Z
DTSTART:20260407T190000
DTEND:20260407T220000
SUMMARY:Sven: Dark Hours
DESCRIPTION:<p>Die Woche starten wir rein mit Dark Hours!</p>
LOCATION:https://twitch.tv/sven
END:VEVENT
BEGIN:VEVENT
UID:86fe9da98366a9feead9dc86f4c1c503@castora.app
DTSTAMP:20260421T222602Z
DTSTART:20260408T201500
DTEND:20260408T230000
SUMMARY:Marco: The Floor Above
DESCRIPTION:<p>The Floor Above ist nun erhältlich und Marco will sein Glück nach der Demo wieder versuchen.</p>
LOCATION:https://twitch.tv/marco
END:VEVENT
BEGIN:VEVENT
UID:adffcf697daf9f518843f7b35cb87273@castora.app
DTSTAMP:20260421T222602Z
DTSTART:20260409T201500
DTEND:20260409T230000
SUMMARY:Marco: Ghost Janitors
DESCRIPTION:<p>Ghost Janitors kam letzte Woche ganz gut an und wie gewünscht übernimmt diesmal Marco den Spaß 😂</p>
LOCATION:https://twitch.tv/marco
END:VEVENT
BEGIN:VEVENT
UID:c222cb9a228123b5114afcaff85abac6@castora.app
DTSTAMP:20260421T222602Z
DTSTART:20260410T190000
DTEND:20260410T210000
SUMMARY:Sven: Phasmophobia
DESCRIPTION:<p>Hoch die Hände\, Wochenende! Wir sind wieder am Start mit viel Spaß in Phasmophobia!</p>
LOCATION:https://twitch.tv/sven
END:VEVENT
BEGIN:VEVENT
UID:b9bb570d4fdc64d3291fe86f32e7ae0e@castora.app
DTSTAMP:20260421T222602Z
DTSTART:20260411T190000
DTEND:20260411T210000
SUMMARY:Marco: Phasmophobia
DESCRIPTION:<p>Auch Marco geht rein mit wilden Runden im Geisterreich.</p>
LOCATION:https://twitch.tv/marco
END:VEVENT
BEGIN:VEVENT
UID:f75887944868a4b8af5ada79ee60fa7b@castora.app
DTSTAMP:20260421T222602Z
DTSTART:20260412T090000
DTEND:20260412T100000
SUMMARY:Sven: Just Chatting
DESCRIPTION:<p>Es ist wieder soweit. Diesen Sonntag gibt es den ersten von 2 Communitystreams. An der Stelle nochmal vielen Dank für euren unendlich krassen Support ❤️</p>
LOCATION:https://twitch.tv/sven
END:VEVENT
BEGIN:VEVENT
UID:e3c34b1d621b5d993771e3455c69ad1c@castora.app
DTSTAMP:20260421T222602Z
DTSTART:20260412T100000
DTEND:20260412T130000
SUMMARY:Sven: Phasmophobia
DESCRIPTION:<p>Wir gehen nochmal rein in Phasmophobia - Challenges wollen gespielt werden 😂</p>
LOCATION:https://twitch.tv/sven
END:VEVENT
BEGIN:VEVENT
UID:4b840bc1d680939da331f5dd1d6cc9db@castora.app
DTSTAMP:20260421T222602Z
DTSTART:20260412T130000
DTEND:20260412T150000
SUMMARY:Sven: Community Choice
DESCRIPTION:<p>Community Choice! Ihr wählt das letzte Game für Sven!</p>
LOCATION:https://twitch.tv/sven
END:VEVENT
BEGIN:VEVENT
UID:a146077ce2dcb7f8f74c134db83c403f@castora.app
DTSTAMP:20260421T222602Z
DTSTART:20260412T150000
DTEND:20260412T170000
SUMMARY:Marco: Marbles on Stream
DESCRIPTION:<p>Marco startet rein mit Marbles und man munkelt es gibt fette Ektogewinne!</p>
LOCATION:https://twitch.tv/marco
END:VEVENT
BEGIN:VEVENT
UID:54f4bcb744fb12c9a386d4899a585a4d@castora.app
DTSTAMP:20260421T222602Z
DTSTART:20260412T170000
DTEND:20260412T190000
SUMMARY:Marco: Golf It!
DESCRIPTION:<p>Vom Rentnernachmittag in den Rentnerabend - bis das der Rage uns scheidet ... Golf It! mit Marco.</p>
LOCATION:https://twitch.tv/marco
END:VEVENT
BEGIN:VEVENT
UID:29d5e38639c1fccc1a91307aafb9b9bc@castora.app
DTSTAMP:20260421T222602Z
DTSTART:20260412T190000
DTEND:20260412T210000
SUMMARY:Marco: Phasmophobia
DESCRIPTION:<p>Marco beendet die Woche mit unser aller Lieblingsspiel.</p>
LOCATION:https://twitch.tv/marco
END:VEVENT
END:VCALENDAR
