﻿

BEGIN:VCALENDAR
VERSION:2.0
PRODID:-//Castora//Streamplan//DE
CALSCALE:GREGORIAN
METHOD:PUBLISH
X-WR-CALNAME:Streamplan: Streamplan Woche 17
BEGIN:VEVENT
UID:1939b43d5267e25ace86256e2aeb445c@castora.app
DTSTAMP:20260421T180730Z
DTSTART:20260414T190000
DTEND:20260414T220000
SUMMARY:Sven: Phasmophobia
DESCRIPTION:<p>Die Woche starten wir rein mit Phasmophobia! Geisterjagd wie aus dem Lehrbuch!</p>
LOCATION:https://twitch.tv/sven
END:VEVENT
BEGIN:VEVENT
UID:97660f95ec3fc2419bcc6ddb6d2489a4@castora.app
DTSTAMP:20260421T180730Z
DTSTART:20260415T190000
DTEND:20260415T210000
SUMMARY:Sven: Don't Play This
DESCRIPTION:<p>Neues Game\, neuer Horror! Walking Sim für nen "entspannten" Mittwoch! </p>
LOCATION:https://twitch.tv/sven
END:VEVENT
BEGIN:VEVENT
UID:0c6404615f24af8c0cba47c4a259f9a3@castora.app
DTSTAMP:20260421T180730Z
DTSTART:20260416T190000
DTEND:20260416T220000
SUMMARY:Marco: Phasmophobia
DESCRIPTION:<p>Marco geht in die Woche rein mit maximalem Geisterreich Abenteuer!</p>
LOCATION:https://twitch.tv/marco
END:VEVENT
BEGIN:VEVENT
UID:14e7af21bdd0d44027842b4e5c3116c8@castora.app
DTSTAMP:20260421T180730Z
DTSTART:20260417T190000
DTEND:20260417T210000
SUMMARY:Sven: Phasmophobia
DESCRIPTION:<p>Auch am Freitag geht es wieder rein in Phasmophobia! Communityrunden\, Challenges und PARTY!</p>
LOCATION:https://twitch.tv/sven
END:VEVENT
BEGIN:VEVENT
UID:584432bd3c56a25d6ff298fafecff73e@castora.app
DTSTAMP:20260421T180730Z
DTSTART:20260418T190000
DTEND:20260418T210000
SUMMARY:Sven: Phasmophobia
LOCATION:https://twitch.tv/sven
END:VEVENT
END:VCALENDAR
