﻿

BEGIN:VCALENDAR
VERSION:2.0
PRODID:-//Castora//Streamplan//DE
CALSCALE:GREGORIAN
METHOD:PUBLISH
X-WR-CALNAME:Streamplan: Streamplan Woche 18
BEGIN:VEVENT
UID:0484cc78446af6c297df6ab7868be5c1@castora.app
DTSTAMP:20260421T164831Z
DTSTART:20260421T190000
DTEND:20260421T220000
SUMMARY:Sven: Phasmophobia
DESCRIPTION:<p>Wir starten mit Phasmophobia in die neue Woche! </p>
LOCATION:https://twitch.tv/sven
END:VEVENT
BEGIN:VEVENT
UID:c9ba063370dfd83a3f3c303342e3d5a9@castora.app
DTSTAMP:20260421T164831Z
DTSTART:20260423T201500
DTEND:20260423T230000
SUMMARY:Marco: Phasmophobia
DESCRIPTION:<p>Geister und Marco. Let's Go! </p>
LOCATION:https://twitch.tv/marco
END:VEVENT
BEGIN:VEVENT
UID:3c26d24e7e3aebe7d155f95e3251629f@castora.app
DTSTAMP:20260421T164831Z
DTSTART:20260424T190000
DTEND:20260424T220000
SUMMARY:Sven: Phasmophobia
DESCRIPTION:<p>Oben gute Laune\, unten gute Laune!! Lasst die Geisterjagd beginnen! </p>
LOCATION:https://twitch.tv/sven
END:VEVENT
BEGIN:VEVENT
UID:ad21e27619262d3782d5b6c7fd991c8d@castora.app
DTSTAMP:20260421T164831Z
DTSTART:20260425T190000
DTEND:20260425T220000
SUMMARY:Marco: The Floor Above
DESCRIPTION:<p>Marco traut sich ein zweites Mal in den bösen Flur! </p>
LOCATION:https://twitch.tv/marco
END:VEVENT
BEGIN:VEVENT
UID:1684896086987440fbf5edc113ffb052@castora.app
DTSTAMP:20260421T164831Z
DTSTART:20260425T220000
DTEND:20260426T000000
SUMMARY:Marco: Phasmophobia
DESCRIPTION:<p>Auf geht's in den Geisterreich Samstag!</p>
LOCATION:https://twitch.tv/marco
END:VEVENT
BEGIN:VEVENT
UID:0c77eb2e38277e6975872ad8ac0421fe@castora.app
DTSTAMP:20260421T164831Z
DTSTART:20260426T090000
DTEND:20260426T100000
SUMMARY:Sven: Just Chatting
DESCRIPTION:<p>Wir gehen in den letzten Sonntag des April mit einen weiteren 12 Stunden Communitystream! Dieser ist nur durch euren unfassbar krassen Support erst möglich! An der Stelle nochmal vielen Dank für eure unendlich krasse Unterstützung ❤️</p>
LOCATION:https://twitch.tv/sven
END:VEVENT
BEGIN:VEVENT
UID:ac54e7836aac91cdb931951e50abccde@castora.app
DTSTAMP:20260421T164831Z
DTSTART:20260426T100000
DTEND:20260426T130000
SUMMARY:Sven: Phasmophobia
DESCRIPTION:<p>Wir gehen nochmal rein in Phasmophobia - Challenges wollen gespielt werden 😂</p>
LOCATION:https://twitch.tv/sven
END:VEVENT
BEGIN:VEVENT
UID:4cb9eff900a466bc302ce29ff897d521@castora.app
DTSTAMP:20260421T164831Z
DTSTART:20260426T130000
DTEND:20260426T150000
SUMMARY:Sven: Community Choice
DESCRIPTION:<p>Community Choice! Ihr wählt das letzte Game für Sven!</p>
LOCATION:https://twitch.tv/sven
END:VEVENT
BEGIN:VEVENT
UID:6846870dce37ec7b72576dc4bbdbf5a7@castora.app
DTSTAMP:20260421T164831Z
DTSTART:20260426T150000
DTEND:20260426T170000
SUMMARY:Marco: Marbles on Stream
DESCRIPTION:<p>Marco startet rein mit Marbles und man munkelt es gibt fette Ektogewinne!</p>
LOCATION:https://twitch.tv/marco
END:VEVENT
BEGIN:VEVENT
UID:a839acb8c66ab7d94f5dc2542270c684@castora.app
DTSTAMP:20260421T164831Z
DTSTART:20260426T170000
DTEND:20260426T190000
SUMMARY:Marco: Golf It!
DESCRIPTION:<p>Vom Rentnernachmittag in den Rentnerabend - bis das der Rage uns scheidet ... Golf It! mit Marco.</p>
LOCATION:https://twitch.tv/marco
END:VEVENT
BEGIN:VEVENT
UID:5067a98144b80bfdfaed0910daff445b@castora.app
DTSTAMP:20260421T164831Z
DTSTART:20260426T190000
DTEND:20260426T210000
SUMMARY:Marco: Phasmophobia
DESCRIPTION:<p>Marco beendet die Woche mit unser aller Lieblingsspiel.</p>
LOCATION:https://twitch.tv/marco
END:VEVENT
END:VCALENDAR
