﻿

BEGIN:VCALENDAR
VERSION:2.0
PRODID:-//Castora//Streamplan//DE
CALSCALE:GREGORIAN
BEGIN:VEVENT
UID:stream_374@nagungaming.castora.app
DTSTAMP:20260421T181633Z
DTSTART:20260317T190000
DTEND:20260317T220000
SUMMARY:Stream: Phasmophobia
DESCRIPTION:Die Challengewoche startet mit Sven und brutalen Challengerunden mit der Community!
LOCATION:https://twitch.tv/nagungaming
END:VEVENT
END:VCALENDAR