﻿

BEGIN:VCALENDAR
VERSION:2.0
PRODID:-//Castora//Streamplan//DE
CALSCALE:GREGORIAN
BEGIN:VEVENT
UID:stream_375@nagungaming.castora.app
DTSTAMP:20260421T181331Z
DTSTART:20260318T190000
DTEND:20260318T220000
SUMMARY:Stream: Phasmophobia
DESCRIPTION:Weiter geht's! Wird es Sven diese Woche öfters ins Geisterreich verschlagen?
LOCATION:https://twitch.tv/nagungaming
END:VEVENT
END:VCALENDAR