﻿

BEGIN:VCALENDAR
VERSION:2.0
PRODID:-//Castora//Streamplan//DE
CALSCALE:GREGORIAN
BEGIN:VEVENT
UID:stream_376@nagungaming.castora.app
DTSTAMP:20260421T180919Z
DTSTART:20260319T190000
DTEND:20260319T220000
SUMMARY:Stream: KunKunNest
DESCRIPTION:Es wird mal wieder Zeit für ein Anomalien-Game!
LOCATION:https://twitch.tv/nagungaming
END:VEVENT
END:VCALENDAR