﻿

BEGIN:VCALENDAR
VERSION:2.0
PRODID:-//Castora//Streamplan//DE
CALSCALE:GREGORIAN
BEGIN:VEVENT
UID:stream_377@nagungaming.castora.app
DTSTAMP:20260421T181309Z
DTSTART:20260320T190000
DTEND:20260320T210000
SUMMARY:Stream: REANIMAL
DESCRIPTION:Bibi und Sven bringen nun endlich REANIMAL zu ende! Der nervige Absturzfehler wurde zuletzt behoben.
LOCATION:https://twitch.tv/nagungaming
END:VEVENT
END:VCALENDAR