﻿

BEGIN:VCALENDAR
VERSION:2.0
PRODID:-//Castora//Streamplan//DE
CALSCALE:GREGORIAN
BEGIN:VEVENT
UID:stream_378@nagungaming.castora.app
DTSTAMP:20260421T181448Z
DTSTART:20260320T210000
DTEND:20260320T230000
SUMMARY:Stream: Phasmophobia
DESCRIPTION:Im Anschluss geht es weiter mit Phasmophobia!
LOCATION:https://twitch.tv/nagungaming
END:VEVENT
END:VCALENDAR