﻿

BEGIN:VCALENDAR
VERSION:2.0
PRODID:-//Castora//Streamplan//DE
CALSCALE:GREGORIAN
BEGIN:VEVENT
UID:stream_379@nagungaming.castora.app
DTSTAMP:20260421T181011Z
DTSTART:20260321T210000
DTEND:20260322T000000
SUMMARY:Stream: Phasmophobia
DESCRIPTION:Phasmophobia, Challenges, Crowd-Control und ... Geisterreich!
LOCATION:https://twitch.tv/nagungaming
END:VEVENT
END:VCALENDAR