﻿

BEGIN:VCALENDAR
VERSION:2.0
PRODID:-//Castora//Streamplan//DE
CALSCALE:GREGORIAN
BEGIN:VEVENT
UID:stream_380@nagungaming.castora.app
DTSTAMP:20260421T181314Z
DTSTART:20260321T190000
DTEND:20260321T210000
SUMMARY:Stream: KunKunNest
DESCRIPTION:Auf in eine weitere wilde Runde in den Hühnerstall! 
LOCATION:https://twitch.tv/nagungaming
END:VEVENT
END:VCALENDAR