﻿

BEGIN:VCALENDAR
VERSION:2.0
PRODID:-//Castora//Streamplan//DE
CALSCALE:GREGORIAN
BEGIN:VEVENT
UID:stream_381@nagungaming.castora.app
DTSTAMP:20260421T181442Z
DTSTART:20260324T190000
DTEND:20260324T220000
SUMMARY:Stream: Phasmophobia
DESCRIPTION:Die Woche startet mit Marco der nun genau hören kann ob die Oma von vorne oder hinten kommt ... oh wait!
LOCATION:https://twitch.tv/nagungaming
END:VEVENT
END:VCALENDAR