﻿

BEGIN:VCALENDAR
VERSION:2.0
PRODID:-//Castora//Streamplan//DE
CALSCALE:GREGORIAN
BEGIN:VEVENT
UID:stream_382@nagungaming.castora.app
DTSTAMP:20260421T181124Z
DTSTART:20260325T190000
DTEND:20260325T220000
SUMMARY:Stream: Phasmophobia
DESCRIPTION:Phasmophobia mit der Community - gemütliche Runden, natürlich inklusive Heldenhafter Rettungen!
LOCATION:https://twitch.tv/nagungaming
END:VEVENT
END:VCALENDAR