﻿

BEGIN:VCALENDAR
VERSION:2.0
PRODID:-//Castora//Streamplan//DE
CALSCALE:GREGORIAN
BEGIN:VEVENT
UID:stream_383@nagungaming.castora.app
DTSTAMP:20260421T181331Z
DTSTART:20260326T210000
DTEND:20260326T220000
SUMMARY:Stream: File Destined
DESCRIPTION:Heute gibt es einen schicken Unreal Engine Klassiker
LOCATION:https://twitch.tv/nagungaming
END:VEVENT
END:VCALENDAR