﻿

BEGIN:VCALENDAR
VERSION:2.0
PRODID:-//Castora//Streamplan//DE
CALSCALE:GREGORIAN
BEGIN:VEVENT
UID:stream_385@nagungaming.castora.app
DTSTAMP:20260421T181006Z
DTSTART:20260327T190000
DTEND:20260327T230000
SUMMARY:Stream: Phasmophobia
DESCRIPTION:Hoch die Hände, ab ins Wochenende! Atemraubende Geisterjägerrunden mit der Community!
LOCATION:https://twitch.tv/nagungaming
END:VEVENT
END:VCALENDAR