﻿

BEGIN:VCALENDAR
VERSION:2.0
PRODID:-//Castora//Streamplan//DE
CALSCALE:GREGORIAN
BEGIN:VEVENT
UID:stream_387@nagungaming.castora.app
DTSTAMP:20260421T181525Z
DTSTART:20260328T190000
DTEND:20260328T220000
SUMMARY:Stream: Phasmophobia
DESCRIPTION:Phasmophobia, Challenges, Crowd-Control (diesmal wirklich!) und ... Geisterreich!
LOCATION:https://twitch.tv/nagungaming
END:VEVENT
END:VCALENDAR