﻿

BEGIN:VCALENDAR
VERSION:2.0
PRODID:-//Castora//Streamplan//DE
CALSCALE:GREGORIAN
BEGIN:VEVENT
UID:stream_388@nagungaming.castora.app
DTSTAMP:20260421T181448Z
DTSTART:20260326T190000
DTEND:20260326T210000
SUMMARY:Stream: Phasmophobia
DESCRIPTION:Wir starten in den Dönerstag mit Phasmophobia!
LOCATION:https://twitch.tv/nagungaming
END:VEVENT
END:VCALENDAR