﻿

BEGIN:VCALENDAR
VERSION:2.0
PRODID:-//Castora//Streamplan//DE
CALSCALE:GREGORIAN
BEGIN:VEVENT
UID:stream_389@nagungaming.castora.app
DTSTAMP:20260421T181649Z
DTSTART:20260331T190000
DTEND:20260331T220000
SUMMARY:Stream: Phasmophobia
DESCRIPTION:Wir starten mit der fröhlichen Ostereisuche in den April!
LOCATION:https://twitch.tv/nagungaming
END:VEVENT
END:VCALENDAR