﻿

BEGIN:VCALENDAR
VERSION:2.0
PRODID:-//Castora//Streamplan//DE
CALSCALE:GREGORIAN
BEGIN:VEVENT
UID:stream_390@nagungaming.castora.app
DTSTAMP:20260421T181500Z
DTSTART:20260330T190000
DTEND:20260330T220000
SUMMARY:Stream: Ghost Janitors
DESCRIPTION:Der Frühling steht vor der Tür und es wird Zeit für den Frühjahrsputz. Sven bewaffnet sich mit Wischmopp, Besen und Tuch und gibt den Geisterbehausungen neuen Glanz.
LOCATION:https://twitch.tv/nagungaming
END:VEVENT
END:VCALENDAR