﻿

BEGIN:VCALENDAR
VERSION:2.0
PRODID:-//Castora//Streamplan//DE
CALSCALE:GREGORIAN
BEGIN:VEVENT
UID:stream_391@nagungaming.castora.app
DTSTAMP:20260421T180812Z
DTSTART:20260401T190000
DTEND:20260401T220000
SUMMARY:Stream: Phasmophobia
DESCRIPTION:Weiter geht's mit Geistern und dem Osterevent.
LOCATION:https://twitch.tv/nagungaming
END:VEVENT
END:VCALENDAR