﻿

BEGIN:VCALENDAR
VERSION:2.0
PRODID:-//Castora//Streamplan//DE
CALSCALE:GREGORIAN
BEGIN:VEVENT
UID:stream_392@nagungaming.castora.app
DTSTAMP:20260421T181442Z
DTSTART:20260402T190000
DTEND:20260402T220000
SUMMARY:Stream: Phasmophobia
DESCRIPTION:Marco sucht noch immer Eier, Hasen und zwischendurch auch Geister.
LOCATION:https://twitch.tv/nagungaming
END:VEVENT
END:VCALENDAR