﻿

BEGIN:VCALENDAR
VERSION:2.0
PRODID:-//Castora//Streamplan//DE
CALSCALE:GREGORIAN
BEGIN:VEVENT
UID:stream_393@nagungaming.castora.app
DTSTAMP:20260421T181202Z
DTSTART:20260403T190000
DTEND:20260403T220000
SUMMARY:Stream: Phasmophobia
DESCRIPTION:Ostern steht vor der Tür und Sven ist voll dabei! Geister, Osterevent und Crowd Control.
LOCATION:https://twitch.tv/nagungaming
END:VEVENT
END:VCALENDAR