﻿

BEGIN:VCALENDAR
VERSION:2.0
PRODID:-//Castora//Streamplan//DE
CALSCALE:GREGORIAN
BEGIN:VEVENT
UID:stream_394@nagungaming.castora.app
DTSTAMP:20260421T181309Z
DTSTART:20260404T190000
DTEND:20260404T235900
SUMMARY:Stream: Phasmophobia
DESCRIPTION:XXL - Phasmophobia Abend!! 
LOCATION:https://twitch.tv/nagungaming
END:VEVENT
END:VCALENDAR