﻿

BEGIN:VCALENDAR
VERSION:2.0
PRODID:-//Castora//Streamplan//DE
CALSCALE:GREGORIAN
BEGIN:VEVENT
UID:stream_395@nagungaming.castora.app
DTSTAMP:20260421T181325Z
DTSTART:20260407T190000
DTEND:20260407T220000
SUMMARY:Stream: Dark Hours
DESCRIPTION:Die Woche starten wir rein mit Dark Hours!
LOCATION:https://twitch.tv/nagungaming
END:VEVENT
END:VCALENDAR