﻿

BEGIN:VCALENDAR
VERSION:2.0
PRODID:-//Castora//Streamplan//DE
CALSCALE:GREGORIAN
BEGIN:VEVENT
UID:stream_396@nagungaming.castora.app
DTSTAMP:20260421T181500Z
DTSTART:20260411T190000
DTEND:20260411T220000
SUMMARY:Stream: Phasmophobia
DESCRIPTION:Auch Marco geht rein mit wilden Runden im Geisterreich.
LOCATION:https://twitch.tv/nagungaming
END:VEVENT
END:VCALENDAR