﻿

BEGIN:VCALENDAR
VERSION:2.0
PRODID:-//Castora//Streamplan//DE
CALSCALE:GREGORIAN
BEGIN:VEVENT
UID:stream_397@nagungaming.castora.app
DTSTAMP:20260421T181314Z
DTSTART:20260408T201500
DTEND:20260408T230000
SUMMARY:Stream: The Floor Above
DESCRIPTION:The Floor Above ist nun erhältlich und Marco will sein Glück nach der Demo wieder versuchen.
LOCATION:https://twitch.tv/nagungaming
END:VEVENT
END:VCALENDAR