﻿

BEGIN:VCALENDAR
VERSION:2.0
PRODID:-//Castora//Streamplan//DE
CALSCALE:GREGORIAN
BEGIN:VEVENT
UID:stream_398@nagungaming.castora.app
DTSTAMP:20260421T181525Z
DTSTART:20260409T201500
DTEND:20260409T230000
SUMMARY:Stream: Ghost Janitors
DESCRIPTION:Ghost Janitors kam letzte Woche ganz gut an und wie gewünscht übernimmt diesmal Marco den Spaß 😂
LOCATION:https://twitch.tv/nagungaming
END:VEVENT
END:VCALENDAR