﻿

BEGIN:VCALENDAR
VERSION:2.0
PRODID:-//Castora//Streamplan//DE
CALSCALE:GREGORIAN
BEGIN:VEVENT
UID:stream_399@nagungaming.castora.app
DTSTAMP:20260421T181325Z
DTSTART:20260410T190000
DTEND:20260410T220000
SUMMARY:Stream: Phasmophobia
DESCRIPTION:Hoch die Hände, Wochenende! Wir sind wieder am Start mit viel Spaß in Phasmophobia!
LOCATION:https://twitch.tv/nagungaming
END:VEVENT
END:VCALENDAR