﻿

BEGIN:VCALENDAR
VERSION:2.0
PRODID:-//Castora//Streamplan//DE
CALSCALE:GREGORIAN
BEGIN:VEVENT
UID:stream_400@nagungaming.castora.app
DTSTAMP:20260421T181124Z
DTSTART:20260412T090000
DTEND:20260412T100000
SUMMARY:Stream: Just Chatting
DESCRIPTION:Es ist wieder soweit. Diesen Sonntag gibt es den ersten von 2 Communitystreams. An der Stelle nochmal vielen Dank für euren unendlich krassen Support ❤️
LOCATION:https://twitch.tv/nagungaming
END:VEVENT
END:VCALENDAR