﻿

BEGIN:VCALENDAR
VERSION:2.0
PRODID:-//Castora//Streamplan//DE
CALSCALE:GREGORIAN
BEGIN:VEVENT
UID:stream_401@nagungaming.castora.app
DTSTAMP:20260421T181139Z
DTSTART:20260412T100000
DTEND:20260412T130000
SUMMARY:Stream: Phasmophobia
DESCRIPTION:Wir gehen nochmal rein in Phasmophobia - Challenges wollen gespielt werden 😂
LOCATION:https://twitch.tv/nagungaming
END:VEVENT
END:VCALENDAR