﻿

BEGIN:VCALENDAR
VERSION:2.0
PRODID:-//Castora//Streamplan//DE
CALSCALE:GREGORIAN
BEGIN:VEVENT
UID:stream_402@nagungaming.castora.app
DTSTAMP:20260421T181642Z
DTSTART:20260412T130000
DTEND:20260412T150000
SUMMARY:Stream: Community Choice
DESCRIPTION:Community Choice! Ihr wählt das letzte Game für Sven!
LOCATION:https://twitch.tv/nagungaming
END:VEVENT
END:VCALENDAR