﻿

BEGIN:VCALENDAR
VERSION:2.0
PRODID:-//Castora//Streamplan//DE
CALSCALE:GREGORIAN
BEGIN:VEVENT
UID:stream_403@nagungaming.castora.app
DTSTAMP:20260421T180919Z
DTSTART:20260412T150000
DTEND:20260412T170000
SUMMARY:Stream: Marbles on Stream
DESCRIPTION:Marco startet rein mit Marbles und man munkelt es gibt fette Ektogewinne!
LOCATION:https://twitch.tv/nagungaming
END:VEVENT
END:VCALENDAR