﻿

BEGIN:VCALENDAR
VERSION:2.0
PRODID:-//Castora//Streamplan//DE
CALSCALE:GREGORIAN
BEGIN:VEVENT
UID:stream_404@nagungaming.castora.app
DTSTAMP:20260421T181006Z
DTSTART:20260412T170000
DTEND:20260412T190000
SUMMARY:Stream: Golf It!
DESCRIPTION:Vom Rentnernachmittag in den Rentnerabend - bis das der Rage uns scheidet ... Golf It! mit Marco.
LOCATION:https://twitch.tv/nagungaming
END:VEVENT
END:VCALENDAR