﻿

BEGIN:VCALENDAR
VERSION:2.0
PRODID:-//Castora//Streamplan//DE
CALSCALE:GREGORIAN
BEGIN:VEVENT
UID:stream_405@nagungaming.castora.app
DTSTAMP:20260421T181202Z
DTSTART:20260412T190000
DTEND:20260412T210000
SUMMARY:Stream: Phasmophobia
DESCRIPTION:Marco beendet die Woche mit unser aller Lieblingsspiel.
LOCATION:https://twitch.tv/nagungaming
END:VEVENT
END:VCALENDAR