﻿

BEGIN:VCALENDAR
VERSION:2.0
PRODID:-//Castora//Streamplan//DE
CALSCALE:GREGORIAN
BEGIN:VEVENT
UID:stream_406@nagungaming.castora.app
DTSTAMP:20260421T181113Z
DTSTART:20260414T190000
DTEND:20260414T220000
SUMMARY:Stream: Phasmophobia
DESCRIPTION:Die Woche starten wir rein mit Phasmophobia! Geisterjagd wie aus dem Lehrbuch!
LOCATION:https://twitch.tv/nagungaming
END:VEVENT
END:VCALENDAR