﻿

BEGIN:VCALENDAR
VERSION:2.0
PRODID:-//Castora//Streamplan//DE
CALSCALE:GREGORIAN
BEGIN:VEVENT
UID:stream_407@nagungaming.castora.app
DTSTAMP:20260421T181139Z
DTSTART:20260415T190000
DTEND:20260415T210000
SUMMARY:Stream: Don't Play This
DESCRIPTION:Neues Game, neuer Horror! Walking Sim für nen "entspannten" Mittwoch! 
LOCATION:https://twitch.tv/nagungaming
END:VEVENT
END:VCALENDAR