﻿

BEGIN:VCALENDAR
VERSION:2.0
PRODID:-//Castora//Streamplan//DE
CALSCALE:GREGORIAN
BEGIN:VEVENT
UID:stream_408@nagungaming.castora.app
DTSTAMP:20260421T181011Z
DTSTART:20260416T190000
DTEND:20260416T220000
SUMMARY:Stream: Phasmophobia
DESCRIPTION:Marco geht in die Woche rein mit maximalem Geisterreich Abenteuer!
LOCATION:https://twitch.tv/nagungaming
END:VEVENT
END:VCALENDAR