﻿

BEGIN:VCALENDAR
VERSION:2.0
PRODID:-//Castora//Streamplan//DE
CALSCALE:GREGORIAN
BEGIN:VEVENT
UID:stream_409@nagungaming.castora.app
DTSTAMP:20260421T181113Z
DTSTART:20260417T190000
DTEND:20260417T220000
SUMMARY:Stream: Phasmophobia
DESCRIPTION:Auch am Freitag geht es wieder rein in Phasmophobia! Communityrunden, Challenges und PARTY!
LOCATION:https://twitch.tv/nagungaming
END:VEVENT
END:VCALENDAR