﻿

BEGIN:VCALENDAR
VERSION:2.0
PRODID:-//Castora//Streamplan//DE
CALSCALE:GREGORIAN
BEGIN:VEVENT
UID:stream_410@nagungaming.castora.app
DTSTAMP:20260421T180842Z
DTSTART:20260418T190000
DTEND:20260418T220000
SUMMARY:Stream: Phasmophobia
DESCRIPTION:
LOCATION:https://twitch.tv/nagungaming
END:VEVENT
END:VCALENDAR