﻿

BEGIN:VCALENDAR
VERSION:2.0
PRODID:-//Castora//Streamplan//DE
CALSCALE:GREGORIAN
BEGIN:VEVENT
UID:stream_415@nagungaming.castora.app
DTSTAMP:20260421T165153Z
DTSTART:20260425T220000
DTEND:20260426T010000
SUMMARY:Stream: Phasmophobia
DESCRIPTION:Auf geht's in den Geisterreich Samstag!
LOCATION:https://twitch.tv/nagungaming
END:VEVENT
END:VCALENDAR