﻿

BEGIN:VCALENDAR
VERSION:2.0
PRODID:-//Castora//Streamplan//DE
CALSCALE:GREGORIAN
BEGIN:VEVENT
UID:stream_418@nagungaming.castora.app
DTSTAMP:20260421T165349Z
DTSTART:20260426T130000
DTEND:20260426T150000
SUMMARY:Stream: Community Choice
DESCRIPTION:Community Choice! Ihr wählt das letzte Game für Sven!
LOCATION:https://twitch.tv/nagungaming
END:VEVENT
END:VCALENDAR