﻿

BEGIN:VCALENDAR
VERSION:2.0
PRODID:-//Castora//Streamplan//DE
CALSCALE:GREGORIAN
BEGIN:VEVENT
UID:stream_421@nagungaming.castora.app
DTSTAMP:20260421T165147Z
DTSTART:20260426T190000
DTEND:20260426T210000
SUMMARY:Stream: Phasmophobia
DESCRIPTION:Marco beendet die Woche mit unser aller Lieblingsspiel.
LOCATION:https://twitch.tv/nagungaming
END:VEVENT
END:VCALENDAR