﻿

BEGIN:VCALENDAR
VERSION:2.0
PRODID:-//Castora//Streamplan//DE
CALSCALE:GREGORIAN
BEGIN:VEVENT
UID:stream_422@nagungaming.castora.app
DTSTAMP:20260421T165203Z
DTSTART:20260425T190000
DTEND:20260425T220000
SUMMARY:Stream: The Floor Above
DESCRIPTION:Marco traut sich ein zweites Mal in den bösen Flur! 
LOCATION:https://twitch.tv/nagungaming
END:VEVENT
END:VCALENDAR