﻿

BEGIN:VCALENDAR
VERSION:2.0
PRODID:-//Castora//Streamplan//DE
CALSCALE:GREGORIAN
BEGIN:VEVENT
UID:stream_424@nagungaming.castora.app
DTSTAMP:20260421T165153Z
DTSTART:20260421T190000
DTEND:20260421T220000
SUMMARY:Stream: Phasmophobia
DESCRIPTION:Wir starten mit Phasmophobia in die neue Woche! 
LOCATION:https://twitch.tv/nagungaming
END:VEVENT
END:VCALENDAR