﻿

BEGIN:VCALENDAR
VERSION:2.0
PRODID:-//Castora//Streamplan//DE
CALSCALE:GREGORIAN
BEGIN:VEVENT
UID:stream_425@nagungaming.castora.app
DTSTAMP:20260421T165337Z
DTSTART:20260424T190000
DTEND:20260424T220000
SUMMARY:Stream: Phasmophobia
DESCRIPTION:Oben gute Laune, unten gute Laune!! Lasst die Geisterjagd beginnen! 
LOCATION:https://twitch.tv/nagungaming
END:VEVENT
END:VCALENDAR